BEGIN:VCALENDAR
VERSION:2.0
PRODID:-//VolunteerWindsor//CommunityEvents//EN
CALSCALE:GREGORIAN
BEGIN:VEVENT
SUMMARY:Wolfhead Distillery Tours
DTSTAMP:20260419T140754Z
DTSTART:20260314T040000Z
DTEND:20260315T035959Z
LOCATION:Wolfhead Distillery
DESCRIPTION:Join a behind-the-scenes tour at Wolfhead Distillery and sample
  their unique spirits.
URL:https://volunteerwindsor.ca/fr/evenements/wolfhead-distillery-tours-14/
UID:event-491@volunteerwindsor.ca
END:VEVENT
END:VCALENDAR