BEGIN:VCALENDAR
VERSION:2.0
PRODID:-//VolunteerWindsor//CommunityEvents//EN
CALSCALE:GREGORIAN
BEGIN:VEVENT
SUMMARY:Wolfhead Distillery Tours
DTSTAMP:20260421T094709Z
DTSTART:20260228T050000Z
DTEND:20260301T045959Z
LOCATION:Wolfhead Distillery
DESCRIPTION:Take a tour of Wolfhead Distillery and taste the difference in 
 their craft spirits.
URL:https://volunteerwindsor.ca/fr/evenements/wolfhead-distillery-tours-12/
UID:event-489@volunteerwindsor.ca
END:VEVENT
END:VCALENDAR