BEGIN:VCALENDAR
VERSION:2.0
PRODID:-//VolunteerWindsor//CommunityEvents//EN
CALSCALE:GREGORIAN
BEGIN:VEVENT
SUMMARY:Windsor Symphony Orchestra presents Mendelssohn's Elijah
DTSTAMP:20260419T152354Z
DTSTART:20260308T003000Z
DTEND:20260308T003000Z
LOCATION:Capitol Theatre Windsor
DESCRIPTION:Witness a powerful performance of Mendelssohnâs Elijah by the
  WSO\, featuring bass Reggie Smith Jr.\, at the Capitol Theatre.
URL:https://volunteerwindsor.ca/fr/evenements/windsor-symphony-orchestra-pr
 esents-mendelssohns-elijah/
UID:event-262@volunteerwindsor.ca
END:VEVENT
END:VCALENDAR