BEGIN:VCALENDAR
VERSION:2.0
PRODID:-//VolunteerWindsor//CommunityEvents//EN
CALSCALE:GREGORIAN
BEGIN:VEVENT
SUMMARY:Windsor Lancers vs Toronto Varsity Blues (Men's Hockey)
DTSTAMP:20260419T124026Z
DTSTART:20260208T003000Z
DTEND:20260208T030000Z
LOCATION:Capri Pizzeria Recreation Complex
DESCRIPTION:It’s a Saturday night showdown at the Capri Pizzeria Recreation
  Complex! The Windsor Lancers Men's Hockey team takes on the Toronto Varsit
 y Blues.
URL:https://volunteerwindsor.ca/fr/evenements/windsor-lancers-vs-toronto-va
 rsity-blues-mens-hockey/
UID:event-204@volunteerwindsor.ca
END:VEVENT
END:VCALENDAR