BEGIN:VCALENDAR
VERSION:2.0
PRODID:-//VolunteerWindsor//CommunityEvents//EN
CALSCALE:GREGORIAN
BEGIN:VEVENT
SUMMARY:Windsor Express V.S. Kitchener-Waterloo Titans
DTSTAMP:20260419T124459Z
DTSTART:20260305T000000Z
DTEND:20260305T030000Z
LOCATION:WFCU Centre
DESCRIPTION:Catch the Windsor Express vs. Kitchener-Waterloo Titans game at
  the WFCU Centre.
URL:https://volunteerwindsor.ca/fr/evenements/windsor-express-vs-kitchener-
 waterloo-titans-1/
UID:event-453@volunteerwindsor.ca
END:VEVENT
END:VCALENDAR