BEGIN:VCALENDAR
VERSION:2.0
PRODID:-//VolunteerWindsor//CommunityEvents//EN
CALSCALE:GREGORIAN
BEGIN:VEVENT
SUMMARY:Pelee Island Winery Half Marathon
DTSTAMP:20260419T162653Z
DTSTART:20260530T040000Z
DTEND:20260531T035959Z
LOCATION:Pelee Island Winery
DESCRIPTION:Run Canadaâs most southern half-marathon on beautiful Pelee I
 sland\, finishing at the Pelee Island Winery.
URL:https://volunteerwindsor.ca/fr/evenements/pelee-island-winery-half-mara
 thon/
UID:event-367@volunteerwindsor.ca
END:VEVENT
END:VCALENDAR