BEGIN:VCALENDAR
VERSION:2.0
PRODID:-//VolunteerWindsor//CommunityEvents//EN
CALSCALE:GREGORIAN
BEGIN:VEVENT
SUMMARY:OnStage: From Mozart to Copland
DTSTAMP:20260419T140630Z
DTSTART:20260423T233000Z
DTEND:20260424T003000Z
LOCATION:Capitol Theatre Windsor
DESCRIPTION:Sit OnStage with the musicians for 'From Mozart to Copland' at 
 the Capitol Theatre.
URL:https://volunteerwindsor.ca/fr/evenements/onstage-from-mozart-to-coplan
 d/
UID:event-268@volunteerwindsor.ca
END:VEVENT
END:VCALENDAR