BEGIN:VCALENDAR
VERSION:2.0
PRODID:-//VolunteerWindsor//CommunityEvents//EN
CALSCALE:GREGORIAN
BEGIN:VEVENT
SUMMARY:Led Zeppelin meets Pearl Jam: A Night of Rock Legends
DTSTAMP:20260419T192451Z
DTSTART:20260322T000000Z
DTEND:20260322T000000Z
LOCATION:Chrysler Theatre
DESCRIPTION:Rock out to the hits of Led Zeppelin and Pearl Jam with two inc
 redible tribute bands at the Chrysler Theatre.
URL:https://volunteerwindsor.ca/fr/evenements/led-zeppelin-meets-pearl-jam-
 a-night-of-rock-legends/
UID:event-281@volunteerwindsor.ca
END:VEVENT
END:VCALENDAR