BEGIN:VCALENDAR
VERSION:2.0
PRODID:-//VolunteerWindsor//CommunityEvents//EN
CALSCALE:GREGORIAN
BEGIN:VEVENT
SUMMARY:Curious George & The Golden Meatball
DTSTAMP:20260421T082325Z
DTSTART:20260319T190000Z
DTEND:20260319T200000Z
LOCATION:Chrysler Theatre
DESCRIPTION:Join the adventures of Curious George in this fun-filled musica
 l\, 'The Golden Meatball'\, at the Chrysler Theatre.
URL:https://volunteerwindsor.ca/fr/evenements/curious-george-the-golden-mea
 tball/
UID:event-280@volunteerwindsor.ca
END:VEVENT
END:VCALENDAR