BEGIN:VCALENDAR
VERSION:2.0
PRODID:-//VolunteerWindsor//CommunityEvents//EN
CALSCALE:GREGORIAN
BEGIN:VEVENT
SUMMARY:Board Game Sunday
DTSTAMP:20260419T213509Z
DTSTART:20260308T180000Z
DTEND:20260308T210000Z
LOCATION:North 42 Degrees Estate Winery
DESCRIPTION:Enjoy a fun-filled Sunday with board games and wine at North 42
  Degrees Estate Winery.
URL:https://volunteerwindsor.ca/fr/evenements/board-game-sunday-13/
UID:event-346@volunteerwindsor.ca
END:VEVENT
END:VCALENDAR